BEGIN:VCALENDAR
VERSION:2.0
PRODID:-//wp-events-plugin.com//5.99912//EN
TZID:Europe/Berlin
X-WR-TIMEZONE:Europe/Berlin
BEGIN:VEVENT
UID:0-655@einsingen.albverein.eu
DTSTART;TZID=Europe/Berlin:20260613T130000
DTEND;TZID=Europe/Berlin:20260613T170000
DTSTAMP:20260323T171715Z
URL:https://einsingen.albverein.eu/events/tag-der-artenvielfalt/
SUMMARY:Tag der Artenvielfalt
DESCRIPTION:Aktion Artenvielfalt auf der Weidacher Hütte\n\n
LOCATION:Weidacher Hütte\, Auf dem Behringer 2\, Blaustein\, 89134\, Deuts
 chland
GEO:48.4186746;9.907976099999999
X-APPLE-STRUCTURED-LOCATION;VALUE=URI;X-ADDRESS=Auf dem Behringer 2\, Blaus
 tein\, 89134\, Deutschland;X-APPLE-RADIUS=100;X-TITLE=Weidacher Hütte:geo
 :48.4186746,9.907976099999999
END:VEVENT
BEGIN:VTIMEZONE
TZID:Europe/Berlin
X-LIC-LOCATION:Europe/Berlin
BEGIN:DAYLIGHT
DTSTART:20260329T030000
TZOFFSETFROM:+0100
TZOFFSETTO:+0200
TZNAME:CEST
END:DAYLIGHT
END:VTIMEZONE
END:VCALENDAR