BEGIN:VCALENDAR
VERSION:2.0
PRODID:-//wp-events-plugin.com//5.99912//EN
TZID:Europe/Berlin
X-WR-TIMEZONE:Europe/Berlin
BEGIN:VEVENT
UID:0-648@einsingen.albverein.eu
DTSTART;TZID=Europe/Berlin;VALUE=DATE:20260503
DTEND;TZID=Europe/Berlin;VALUE=DATE:20260504
DTSTAMP:20260308T132513Z
URL:https://einsingen.albverein.eu/events/fruehlingsfest-am-jugendtreff/
SUMMARY:Frühlingsfest am Jugendtreff
DESCRIPTION:Informationen zur Veranstaltung folgen…
END:VEVENT
BEGIN:VTIMEZONE
TZID:Europe/Berlin
X-LIC-LOCATION:Europe/Berlin
BEGIN:DAYLIGHT
DTSTART:20260329T030000
TZOFFSETFROM:+0100
TZOFFSETTO:+0200
TZNAME:CEST
END:DAYLIGHT
END:VTIMEZONE
END:VCALENDAR